BEGIN:VCALENDAR
VERSION:2.0
PRODID:-//www.nepatientsafety.org//NONSGML kigkonsult.se iCalcreator 2.30.1
 0//
CALSCALE:GREGORIAN
METHOD:PUBLISH
UID:696a7d43-cae2-43f3-81e0-ef43801f02da
X-WR-CALDESC:
X-WR-RELCALID:030ee64f91eac4fe1a010742c9c4ac53
X-WR-TIMEZONE:America/Chicago
BEGIN:VTIMEZONE
TZID:America/Chicago
BEGIN:STANDARD
TZNAME:CST
DTSTART:20201101T020000
TZOFFSETFROM:-0500
TZOFFSETTO:-0600
RDATE:20211107T020000
RDATE:20221106T020000
END:STANDARD
BEGIN:DAYLIGHT
TZNAME:CDT
DTSTART:20210314T020000
TZOFFSETFROM:-0600
TZOFFSETTO:-0500
RDATE:20220313T020000
END:DAYLIGHT
END:VTIMEZONE
BEGIN:VEVENT
UID:8b74dd29-9752-4387-9945-e6effa06054a
DTSTAMP:20260424T184614Z
DESCRIPTION:
DTSTART;TZID=America/Chicago:20210811T120000
DTEND;TZID=America/Chicago:20210811T124500
LOCATION:
SUMMARY:Debrief Collaborative Implementation Support Call #2
END:VEVENT
END:VCALENDAR
