BEGIN:VCALENDAR
VERSION:2.0
PRODID:-//www.nepatientsafety.org//NONSGML kigkonsult.se iCalcreator 2.30.1
 0//
CALSCALE:GREGORIAN
METHOD:PUBLISH
UID:ca6db078-4b93-44b0-8322-3de688686715
X-WR-CALDESC:Dr. Russ Buzalko\, PhD\, MAS\, will provide information regard
 ing the challenges LGBTQ+ populations historically have faced\; and still 
 do\, particularly within healthcare settings. He will lead a conversation 
 amongst participants to facilitate better understanding of these issues wh
 ich can become patient safety concerns.\n
X-WR-RELCALID:645dcf9e164af235f3b833150b918077
X-WR-TIMEZONE:America/Chicago
BEGIN:VTIMEZONE
TZID:America/Chicago
BEGIN:STANDARD
TZNAME:CST
DTSTART:20221106T020000
TZOFFSETFROM:-0500
TZOFFSETTO:-0600
RDATE:20231105T020000
END:STANDARD
BEGIN:DAYLIGHT
TZNAME:CDT
DTSTART:20230312T020000
TZOFFSETFROM:-0600
TZOFFSETTO:-0500
RDATE:20240310T020000
END:DAYLIGHT
END:VTIMEZONE
BEGIN:VEVENT
UID:b3bcaaca-9194-4809-9f9b-f436b3ea0e05
DTSTAMP:20260425T125336Z
DESCRIPTION:Dr. Russ Buzalko\, PhD\, MAS\, will provide information regardi
 ng the challenges LGBTQ+ populations historically have faced\; and still d
 o\, particularly within healthcare settings. He will lead a conversation a
 mongst participants to facilitate better understanding of these issues whi
 ch can become patient safety concerns.\n
DTSTART;TZID=America/Chicago:20230426T170000
DTEND;TZID=America/Chicago:20230426T180000
LOCATION:https://unmc.zoom.us/j/95232354907?pwd=WXdkZklGd1VnMGNvYUt0Y2xmRVd
 lUT09
SUMMARY:Webinar: Patient Safety Considerations for LGBTQ+ Patients
END:VEVENT
END:VCALENDAR
